Workbook
Name Jnames: OFFSET(INDIRECT(ADDRESS(MATCH("J*",'10'!Names,0)+1,1)),0,0,COUNTIF('10'!Names,"J*"),1)
Name Jnames: OFFSET(INDIRECT(ADDRESS(MATCH("J*",'21'!Names,0)+1,1)),0,0,COUNTIF('21'!Names,"J*"),1)
Name Jnames: OFFSET(INDIRECT(ADDRESS(MATCH("J*",'5'!Names,0)+1,1)),0,0,COUNTIF('5'!Names,"J*"),1)
Name Jnames: OFFSET(INDIRECT(ADDRESS(MATCH("J*",Names,0)+1,1)),0,0,COUNTIF(Names,"J*"),1)
Name Names: OFFSET(#REF!,0,0,COUNTA(#REF!:#REF!),1)
Name Names: OFFSET(#REF!,0,0,COUNTA(#REF!:#REF!),1)
Name Names: OFFSET(#REF!,0,0,COUNTA(#REF!:#REF!),1)
Name Names: OFFSET(#REF!,0,0,COUNTA(#REF!:#REF!),1)
Name Дист_1Ж_Пол: #REF!
Name Дист_1Ж_Пол: #REF!
Name Дист_1Ж_Пол: #REF!
Name Дист_1Ж_Пол: Дист_1Ж1418[]
Name Дист_4М3: [1]!Дист_4М2[#Data]
Name Дист_4М3: [1]!Дист_4М2[#Data]
Name Дист_4М3: [1]!Дист_4М2[#Data]
Name Дист_4М3: [1]!Дист_4М2[#Data]
Name Дист_5Ж: [1]!Дист_1М[#Data]
Name Дист_5Ж: [1]!Дист_1М[#Data]
Name Дист_5Ж: [1]!Дист_1М[#Data]
Name Дист_5Ж: [1]!Дист_1М[#Data]
Name Дист_5м: [1]!Дист_4М2[#Data]
Name Дист_5м: [1]!Дист_4М2[#Data]
Name Дист_5м: [1]!Дист_4М2[#Data]
Name Дист_5м: [1]!Дист_4М2[#Data]
Name дист2: OFFSET([1]Финиш!$F$8,MATCH([1]Финиш!$F$4,[1]!Финиш[Дист],0),0,COUNTIF([1]!Финиш[Дист],[1]Финиш!$F$4))
Name дист2: OFFSET([1]Финиш!$F$8,MATCH([1]Финиш!$F$4,[1]!Финиш[Дист],0),0,COUNTIF([1]!Финиш[Дист],[1]Финиш!$F$4))
Name дист2: OFFSET([1]Финиш!$F$8,MATCH([1]Финиш!$F$4,[1]!Финиш[Дист],0),0,COUNTIF([1]!Финиш[Дист],[1]Финиш!$F$4))
Name дист2: OFFSET([1]Финиш!$F$8,MATCH([1]Финиш!$F$4,[1]!Финиш[Дист],0),0,COUNTIF([1]!Финиш[Дист],[1]Финиш!$F$4))
Name дист3: OFFSET([1]Финиш!$F$8,MATCH([1]Финиш!$F$5,[1]!Финиш[Дист],0),0,COUNTIF([1]!Финиш[Дист],[1]Финиш!$F$5))
Name дист3: OFFSET([1]Финиш!$F$8,MATCH([1]Финиш!$F$5,[1]!Финиш[Дист],0),0,COUNTIF([1]!Финиш[Дист],[1]Финиш!$F$5))
Name дист3: OFFSET([1]Финиш!$F$8,MATCH([1]Финиш!$F$5,[1]!Финиш[Дист],0),0,COUNTIF([1]!Финиш[Дист],[1]Финиш!$F$5))
Name дист3: OFFSET([1]Финиш!$F$8,MATCH([1]Финиш!$F$5,[1]!Финиш[Дист],0),0,COUNTIF([1]!Финиш[Дист],[1]Финиш!$F$5))
Name дист4: OFFSET([1]Финиш!$F$8,MATCH([1]Финиш!$F$6,[1]!Финиш[Дист],0),0,COUNTIF([1]!Финиш[Дист],[1]Финиш!$F$6))
Name дист4: OFFSET([1]Финиш!$F$8,MATCH([1]Финиш!$F$6,[1]!Финиш[Дист],0),0,COUNTIF([1]!Финиш[Дист],[1]Финиш!$F$6))
Name дист4: OFFSET([1]Финиш!$F$8,MATCH([1]Финиш!$F$6,[1]!Финиш[Дист],0),0,COUNTIF([1]!Финиш[Дист],[1]Финиш!$F$6))
Name дист4: OFFSET([1]Финиш!$F$8,MATCH([1]Финиш!$F$6,[1]!Финиш[Дист],0),0,COUNTIF([1]!Финиш[Дист],[1]Финиш!$F$6))
Name дист6: [1]!Дист_4М2[#Data]
Name дист6: [1]!Дист_4М2[#Data]
Name кадры: (HOUR([1]ВидеоФиниш!$G1)*3600+MINUTE([1]ВидеоФиниш!$G1)*60+SECOND([1]ВидеоФиниш!$G1))*[1]ВидеоФиниш!$H$2
Name матч2016: OFFSET([2]ЧЛЕНЫ_КЛБМатч!$D$2,0,0,MATCH(REPT("я",255),[2]ЧЛЕНЫ_КЛБМатч!A1048407:A749),1)
Name проба1: OFFSET(#REF!,#REF!-1,0,#REF!,1)
Name проба1: OFFSET(#REF!,#REF!-1,0,#REF!,1)
Name проба1: OFFSET(#REF!,#REF!-1,0,#REF!,1)
Name проба1: OFFSET(#REF!,#REF!-1,0,#REF!,1)

Sheet 1,5
A2: Итоговый протокол результатов пробега
A4: Пробег памяти ВН Пантелея
A5: название пробега
A6: 42840 | C6: 0.45833333 | E6: Харьков, Пятихатки
A7: дата | C7: время старта | E7: место
A8: t=+5
A9: погода
A10: Дистанция: | C10: 1,5 км
A11: Финишировало: | C11: Всего | D11: 2
C12: Зачёт | D12: 2
A15: Место в абсолюте | B15: Номер | C15: Фамилия | D15: Имя | E15: Дата рождения (ДД.ММ.ГГ) | F15: Город | G15: Клуб | H15: Результат часы:мин:сек (ЧЧ:ММ:СС) или км, м | I15: Пол | J15: Группа
A16: 1 | B16: 431 | C16: Паламурчук | D16: Вероника | E16: 39677 | F16: Н. Водолага | G16: 0 | H16: 0.0064236111 | I16: ж | J16: 9 и мл.
A17: 2 | B17: 332 | C17: Ильина | D17: Настя | E17: 40564 | F17: Харьков | G17: Родник | H17: 0.0084837963 | I17: ж | J17: 9 и мл.
A20: Контакты для замечаний по протоколу: | H20: mirbega@mail.ru
A22: Адреса (URL) размещения протокола в сети:

Sheet 5
A2: Итоговый протокол результатов пробега
A4: Пробег памяти ВН Пантелея
A5: название пробега
A6: 42840 | C6: 0.45833333 | E6: Харьков, Пятихатки
A7: дата | C7: время старта | E7: место
A8: t=+5
A9: погода
A10: Дистанция: | C10: 5 км
A11: Финишировало: | C11: Всего | D11: 14
C12: Зачёт | D12: 14
A15: Место в абсолюте | B15: Номер | C15: Фамилия | D15: Имя | E15: Дата рождения (ДД.ММ.ГГ) | F15: Город | G15: Клуб | H15: Результат часы:мин:сек (ЧЧ:ММ:СС) или км, м | I15: Пол | J15: Группа
A16: 1 | B16: 2008 | C16: Пушкарев | D16: Александр | E16: 24.07.1994 | F16: Харьков | G16: ГКДЮСШ | H16: 0.012905093 | I16: м | J16: 20-22
A17: 2 | B17: 427 | C17: Потапов | D17: Юлиан | E17: 34247 | F17: Харьков | G17: 0 | H17: 0.014375 | I17: м | J17: 23-39
A18: 3 | B18: 437 | C18: Жученко | D18: Александр | E18: 16.10.1997 | F18: Харьков | G18: ГКДЮСШ | H18: 0.015520833 | I18: м | J18: 18-19
A19: 4 | B19: 133 | C19: Каверзин | D19: Николай | E19: 05.05.1956 | F19: Первомайский | G19: Стайер-Атлон | H19: 0.01630787 | I19: м | J19: 60-69
A20: 5 | B20: 425 | C20: Мовсумов | D20: Анвер | E20: 08.10.1960 | F20: Харьков | G20: Харьков | H20: 0.016666667 | I20: м | J20: 50-59
A21: 6 | B21: 371 | C21: Гаманов | D21: Виктор | E21: 01.01.1958 | F21: Харьков | G21: Родник | H21: 0.016724537 | I21: м | J21: 50-59
A22: 7 | B22: 351 | C22: Филоненко | D22: Евгения | E22: 29.09.2003 | F22: Рогань | G22: Рог. ДЮСШ | H22: 0.018159722 | I22: ж | J22: 12-13
A23: 8 | B23: 95 | C23: Золотарев | D23: Александр | E23: 19.05.1955 | F23: Харьков | G23: Харьков | H23: 0.018298611 | I23: м | J23: 60-69
A24: 9 | B24: 443 | C24: Котляр | D24: Денис | E24: 08.08.2005 | F24: Рогань | G24: Рог. ДЮСШ | H24: 0.018553241 | I24: м | J24: 10-11
A25: 10 | B25: 414 | C25: Колесник | D25: Екатерина | E25: 01.12.2003 | F25: Рогань | G25: Рог. ДЮСШ | H25: 0.021238426 | I25: ж | J25: 12-13
A26: 11 | B26: 412 | C26: Тремка | D26: Николай | E26: 10.02.1937 | F26: Харьков | G26: Харьков | H26: 0.022685185 | I26: м | J26: 70 и ст
A27: 12 | B27: 19 | C27: Болдырев | D27: Петр | E27: 18528 | F27: Харьков | G27: Харьков | H27: 0.023854167 | I27: м | J27: 60-69
A28: 13 | B28: 82 | C28: Капустина | D28: Валентина | E28: 15.07.1942 | F28: Харьков | G28: Харьков | H28: 0.0265625 | I28: ж | J28: 70 и ст
A29: 14 | B29: 455 | C29: Будник | D29: Алла | E29: 29.08.1938 | F29: Харьков | G29: Харьков | H29: 0.040300926 | I29: ж | J29: 70 и ст
A31: Контакты для замечаний по протоколу: | H31: mirbega@mail.ru
A33: Адреса (URL) размещения протокола в сети:

Sheet 10
A2: Итоговый протокол результатов пробега
A4: Пробег памяти ВН Пантелея
A5: название пробега
A6: 42840 | C6: 0.45833333 | E6: Харьков, Пятихатки
A7: дата | C7: время старта | E7: место
A8: t=+5
A9: погода
A10: Дистанция: | C10: 10 км
A11: Финишировало: | C11: Всего | D11: 13
C12: Зачёт | D12: 13
A15: Место в абсолюте | B15: Номер | C15: Фамилия | D15: Имя | E15: Дата рождения (ДД.ММ.ГГ) | F15: Город | G15: Клуб | H15: Результат часы:мин:сек (ЧЧ:ММ:СС) или км, м | I15: Пол | J15: Группа
A16: 1 | B16: 75 | C16: Трикоз | D16: Александр | E16: 14.03.1988 | F16: Харьков | G16: ХНПУ | H16: 0.027199074 | I16: м | J16: 23-39
A17: 2 | B17: 13 | C17: Андрусенко | D17: Юрий | E17: 26.04.1986 | F17: Харьков | G17: Харьков | H17: 0.027974537 | I17: м | J17: 23-39
A18: 3 | B18: 422 | C18: Ильин | D18: Дмитрий | E18: 27178 | F18: Харьков | G18: Родник | H18: 0.032222222 | I18: м | J18: 40-49
A19: 4 | B19: 337 | C19: Бобринцев | D19: Вадим | E19: 19.01.1953 | F19: Харьков | G19: Харьков | H19: 0.033148148 | I19: м | J19: 60-69
A20: 5 | B20: 29 | C20: Лысак | D20: Руслан | E20: 29.06.2002 | F20: Харьков | G20: Харьков | H20: 0.034328704 | I20: м | J20: 14-15
A21: 6 | B21: 5 | C21: Маркова | D21: Татьяна | E21: 18.12.1956 | F21: Харьков | G21: Харьков | H21: 0.037685185 | I21: ж | J21: 60-69
A22: 7 | B22: 72 | C22: Сотников | D22: Геннадий | E22: 14.02.1955 | F22: Харьков | G22: ХФТИ "Темп" | H22: 0.0384375 | I22: м | J22: 60-69
A23: 8 | B23: 141 | C23: Косой | D23: Александр | E23: 28.04.1950 | F23: Харьков | G23: ХФТИ "Темп" | H23: 0.039224537 | I23: м | J23: 60-69
A24: 9 | B24: 345 | C24: Мармур | D24: Михаил | E24: 15.07.1987 | F24: 0 | G24: 0 | H24: 0.040162037 | I24: м | J24: 23-39
A25: 10 | B25: 415 | C25: Криворучко | D25: Игорь | E25: 29751 | F25: 0 | G25: 0 | H25: 0.040891204 | I25: м | J25: 23-39
A26: 11 | B26: 331 | C26: Линьков | D26: Александр | E26: 17229 | F26: Харьков | G26: 0 | H26: 0.041909722 | I26: м | J26: 70 и ст
A27: 12 | B27: 40 | C27: Усенко | D27: Анатолий | E27: 26.12.1940 | F27: Харьков | G27: Харьков | H27: 0.047627315 | I27: м | J27: 70 и ст
A28: 13 | B28: 608 | C28: Мандрыка | D28: Татьяна | E28: 13.02.1948 | F28: Харьков | G28: Родник | H28: 0.05037037 | I28: ж | J28: 60-69
A30: Контакты для замечаний по протоколу: | H30: mirbega@mail.ru
A32: Адреса (URL) размещения протокола в сети:

Sheet 21
C6: ='1,5'!A2 -> Итоговый протокол результатов пробега
C8: =[1]Финиш!F1 -> Пробег памяти ВН Пантелея
C9: название пробега
C10: =[1]Финиш!B2 -> 42840 | E10: =[1]Финиш!B3 -> 0.45833333 | G10: =[1]Финиш!B4 -> Харьков, Пятихатки
C11: дата | E11: время старта | G11: место
C12: =[1]Финиш!B5 -> t=+5
C13: погода
A14: =IF([1]Финиш!$F$6=0,0,1) -> 1 | C14: Дистанция: | E14: =[1]Финиш!F6 -> 21.1
A15: =IF([1]Финиш!$F$6=0,0,1) -> 1 | C15: Финишировало: | E15: Всего | F15: =COUNTIF(Дист_4Ж1922263034[Номер],">0") -> 24
A16: =IF([1]Финиш!$F$6=0,0,1) -> 1 | E16: Зачёт | F16: =COUNTIF(Дист_4Ж1922263034[Место в абсолюте],">=0") -> 24
A17: =IF([1]Финиш!$F$6=0,0,1) -> 1
A18: =IF([1]Финиш!$F$6=0,0,1) -> 1
A19: =IF([1]Финиш!$F$6=0,0,1) -> 1 | C19: Место в абсолюте | D19: Номер | E19: Фамилия | F19: Имя | G19: Дата рождения (ДД.ММ.ГГ) | H19: Город | I19: Клуб | J19: Результат часы:мин:сек (ЧЧ:ММ:СС) или км, м | K19: Пол | L19: Группа
A20: =IFERROR(IF(Дист_4Ж1922263034[[#This Row],[Фамилия]]="",0,1),0) -> 0 | C20: =IF([1]Финиш!$C9=[1]Финиш!$F$6,[1]Финиш!B9,"") | D20: =IF([1]Финиш!$C9=[1]Финиш!$F$6,[1]Финиш!E9,"") | E20: =IFERROR(IF([1]Финиш!C9=[1]Финиш!$F$6,MID([1]Финиш!G9,1,FIND(" ",[1]Финиш!G9)-1),""),"") | F20: =IFERROR(IF([1]Финиш!C9=[1]Финиш!$F$6,MID([1]Финиш!G9,FIND(" ",[1]Финиш!G9)+1,100),""),"") | G20: =IF([1]Финиш!$C9=[1]Финиш!$F$6,[1]Финиш!H9,"") | H20: =IF([1]Финиш!$C9=[1]Финиш!$F$6,[1]Финиш!N9,"") | I20: =IF([1]Финиш!$C9=[1]Финиш!$F$6,[1]Финиш!P9,"") | J20: =IF([1]Финиш!$C9=[1]Финиш!$F$6,[1]Финиш!F9,"") | K20: =IF([1]Финиш!$C9=[1]Финиш!$F$6,[1]Финиш!D9,"") | L20: =IF([1]Финиш!$C9=[1]Финиш!$F$6,[1]Финиш!J9,"")
A21: =IFERROR(IF(Дист_4Ж1922263034[[#This Row],[Фамилия]]="",0,1),0) -> 0 | C21: =IF([1]Финиш!$C10=[1]Финиш!$F$6,[1]Финиш!B10,"") | D21: =IF([1]Финиш!$C10=[1]Финиш!$F$6,[1]Финиш!E10,"") | E21: =IFERROR(IF([1]Финиш!C10=[1]Финиш!$F$6,MID([1]Финиш!G10,1,FIND(" ",[1]Финиш!G10)-1),""),"") | F21: =IFERROR(IF([1]Финиш!C10=[1]Финиш!$F$6,MID([1]Финиш!G10,FIND(" ",[1]Финиш!G10)+1,100),""),"") | G21: =IF([1]Финиш!$C10=[1]Финиш!$F$6,[1]Финиш!H10,"") | H21: =IF([1]Финиш!$C10=[1]Финиш!$F$6,[1]Финиш!N10,"") | I21: =IF([1]Финиш!$C10=[1]Финиш!$F$6,[1]Финиш!P10,"") | J21: =IF([1]Финиш!$C10=[1]Финиш!$F$6,[1]Финиш!F10,"") | K21: =IF([1]Финиш!$C10=[1]Финиш!$F$6,[1]Финиш!D10,"") | L21: =IF([1]Финиш!$C10=[1]Финиш!$F$6,[1]Финиш!J10,"")
A22: =IFERROR(IF(Дист_4Ж1922263034[[#This Row],[Фамилия]]="",0,1),0) -> 0 | C22: =IF([1]Финиш!$C11=[1]Финиш!$F$6,[1]Финиш!B11,"") | D22: =IF([1]Финиш!$C11=[1]Финиш!$F$6,[1]Финиш!E11,"") | E22: =IFERROR(IF([1]Финиш!C11=[1]Финиш!$F$6,MID([1]Финиш!G11,1,FIND(" ",[1]Финиш!G11)-1),""),"") | F22: =IFERROR(IF([1]Финиш!C11=[1]Финиш!$F$6,MID([1]Финиш!G11,FIND(" ",[1]Финиш!G11)+1,100),""),"") | G22: =IF([1]Финиш!$C11=[1]Финиш!$F$6,[1]Финиш!H11,"") | H22: =IF([1]Финиш!$C11=[1]Финиш!$F$6,[1]Финиш!N11,"") | I22: =IF([1]Финиш!$C11=[1]Финиш!$F$6,[1]Финиш!P11,"") | J22: =IF([1]Финиш!$C11=[1]Финиш!$F$6,[1]Финиш!F11,"") | K22: =IF([1]Финиш!$C11=[1]Финиш!$F$6,[1]Финиш!D11,"") | L22: =IF([1]Финиш!$C11=[1]Финиш!$F$6,[1]Финиш!J11,"")
A23: =IFERROR(IF(Дист_4Ж1922263034[[#This Row],[Фамилия]]="",0,1),0) -> 0 | C23: =IF([1]Финиш!$C12=[1]Финиш!$F$6,[1]Финиш!B12,"") | D23: =IF([1]Финиш!$C12=[1]Финиш!$F$6,[1]Финиш!E12,"") | E23: =IFERROR(IF([1]Финиш!C12=[1]Финиш!$F$6,MID([1]Финиш!G12,1,FIND(" ",[1]Финиш!G12)-1),""),"") | F23: =IFERROR(IF([1]Финиш!C12=[1]Финиш!$F$6,MID([1]Финиш!G12,FIND(" ",[1]Финиш!G12)+1,100),""),"") | G23: =IF([1]Финиш!$C12=[1]Финиш!$F$6,[1]Финиш!H12,"") | H23: =IF([1]Финиш!$C12=[1]Финиш!$F$6,[1]Финиш!N12,"") | I23: =IF([1]Финиш!$C12=[1]Финиш!$F$6,[1]Финиш!P12,"") | J23: =IF([1]Финиш!$C12=[1]Финиш!$F$6,[1]Финиш!F12,"") | K23: =IF([1]Финиш!$C12=[1]Финиш!$F$6,[1]Финиш!D12,"") | L23: =IF([1]Финиш!$C12=[1]Финиш!$F$6,[1]Финиш!J12,"")
A24: =IFERROR(IF(Дист_4Ж1922263034[[#This Row],[Фамилия]]="",0,1),0) -> 0 | C24: =IF([1]Финиш!$C13=[1]Финиш!$F$6,[1]Финиш!B13,"") | D24: =IF([1]Финиш!$C13=[1]Финиш!$F$6,[1]Финиш!E13,"") | E24: =IFERROR(IF([1]Финиш!C13=[1]Финиш!$F$6,MID([1]Финиш!G13,1,FIND(" ",[1]Финиш!G13)-1),""),"") | F24: =IFERROR(IF([1]Финиш!C13=[1]Финиш!$F$6,MID([1]Финиш!G13,FIND(" ",[1]Финиш!G13)+1,100),""),"") | G24: =IF([1]Финиш!$C13=[1]Финиш!$F$6,[1]Финиш!H13,"") | H24: =IF([1]Финиш!$C13=[1]Финиш!$F$6,[1]Финиш!N13,"") | I24: =IF([1]Финиш!$C13=[1]Финиш!$F$6,[1]Финиш!P13,"") | J24: =IF([1]Финиш!$C13=[1]Финиш!$F$6,[1]Финиш!F13,"") | K24: =IF([1]Финиш!$C13=[1]Финиш!$F$6,[1]Финиш!D13,"") | L24: =IF([1]Финиш!$C13=[1]Финиш!$F$6,[1]Финиш!J13,"")
A25: =IFERROR(IF(Дист_4Ж1922263034[[#This Row],[Фамилия]]="",0,1),0) -> 0 | C25: =IF([1]Финиш!$C14=[1]Финиш!$F$6,[1]Финиш!B14,"") | D25: =IF([1]Финиш!$C14=[1]Финиш!$F$6,[1]Финиш!E14,"") | E25: =IFERROR(IF([1]Финиш!C14=[1]Финиш!$F$6,MID([1]Финиш!G14,1,FIND(" ",[1]Финиш!G14)-1),""),"") | F25: =IFERROR(IF([1]Финиш!C14=[1]Финиш!$F$6,MID([1]Финиш!G14,FIND(" ",[1]Финиш!G14)+1,100),""),"") | G25: =IF([1]Финиш!$C14=[1]Финиш!$F$6,[1]Финиш!H14,"") | H25: =IF([1]Финиш!$C14=[1]Финиш!$F$6,[1]Финиш!N14,"") | I25: =IF([1]Финиш!$C14=[1]Финиш!$F$6,[1]Финиш!P14,"") | J25: =IF([1]Финиш!$C14=[1]Финиш!$F$6,[1]Финиш!F14,"") | K25: =IF([1]Финиш!$C14=[1]Финиш!$F$6,[1]Финиш!D14,"") | L25: =IF([1]Финиш!$C14=[1]Финиш!$F$6,[1]Финиш!J14,"")
A26: =IFERROR(IF(Дист_4Ж1922263034[[#This Row],[Фамилия]]="",0,1),0) -> 0 | C26: =IF([1]Финиш!$C15=[1]Финиш!$F$6,[1]Финиш!B15,"") | D26: =IF([1]Финиш!$C15=[1]Финиш!$F$6,[1]Финиш!E15,"") | E26: =IFERROR(IF([1]Финиш!C15=[1]Финиш!$F$6,MID([1]Финиш!G15,1,FIND(" ",[1]Финиш!G15)-1),""),"") | F26: =IFERROR(IF([1]Финиш!C15=[1]Финиш!$F$6,MID([1]Финиш!G15,FIND(" ",[1]Финиш!G15)+1,100),""),"") | G26: =IF([1]Финиш!$C15=[1]Финиш!$F$6,[1]Финиш!H15,"") | H26: =IF([1]Финиш!$C15=[1]Финиш!$F$6,[1]Финиш!N15,"") | I26: =IF([1]Финиш!$C15=[1]Финиш!$F$6,[1]Финиш!P15,"") | J26: =IF([1]Финиш!$C15=[1]Финиш!$F$6,[1]Финиш!F15,"") | K26: =IF([1]Финиш!$C15=[1]Финиш!$F$6,[1]Финиш!D15,"") | L26: =IF([1]Финиш!$C15=[1]Финиш!$F$6,[1]Финиш!J15,"")
A27: =IFERROR(IF(Дист_4Ж1922263034[[#This Row],[Фамилия]]="",0,1),0) -> 0 | C27: =IF([1]Финиш!$C16=[1]Финиш!$F$6,[1]Финиш!B16,"") | D27: =IF([1]Финиш!$C16=[1]Финиш!$F$6,[1]Финиш!E16,"") | E27: =IFERROR(IF([1]Финиш!C16=[1]Финиш!$F$6,MID([1]Финиш!G16,1,FIND(" ",[1]Финиш!G16)-1),""),"") | F27: =IFERROR(IF([1]Финиш!C16=[1]Финиш!$F$6,MID([1]Финиш!G16,FIND(" ",[1]Финиш!G16)+1,100),""),"") | G27: =IF([1]Финиш!$C16=[1]Финиш!$F$6,[1]Финиш!H16,"") | H27: =IF([1]Финиш!$C16=[1]Финиш!$F$6,[1]Финиш!N16,"") | I27: =IF([1]Финиш!$C16=[1]Финиш!$F$6,[1]Финиш!P16,"") | J27: =IF([1]Финиш!$C16=[1]Финиш!$F$6,[1]Финиш!F16,"") | K27: =IF([1]Финиш!$C16=[1]Финиш!$F$6,[1]Финиш!D16,"") | L27: =IF([1]Финиш!$C16=[1]Финиш!$F$6,[1]Финиш!J16,"")
A28: =IFERROR(IF(Дист_4Ж1922263034[[#This Row],[Фамилия]]="",0,1),0) -> 0 | C28: =IF([1]Финиш!$C17=[1]Финиш!$F$6,[1]Финиш!B17,"") | D28: =IF([1]Финиш!$C17=[1]Финиш!$F$6,[1]Финиш!E17,"") | E28: =IFERROR(IF([1]Финиш!C17=[1]Финиш!$F$6,MID([1]Финиш!G17,1,FIND(" ",[1]Финиш!G17)-1),""),"") | F28: =IFERROR(IF([1]Финиш!C17=[1]Финиш!$F$6,MID([1]Финиш!G17,FIND(" ",[1]Финиш!G17)+1,100),""),"") | G28: =IF([1]Финиш!$C17=[1]Финиш!$F$6,[1]Финиш!H17,"") | H28: =IF([1]Финиш!$C17=[1]Финиш!$F$6,[1]Финиш!N17,"") | I28: =IF([1]Финиш!$C17=[1]Финиш!$F$6,[1]Финиш!P17,"") | J28: =IF([1]Финиш!$C17=[1]Финиш!$F$6,[1]Финиш!F17,"") | K28: =IF([1]Финиш!$C17=[1]Финиш!$F$6,[1]Финиш!D17,"") | L28: =IF([1]Финиш!$C17=[1]Финиш!$F$6,[1]Финиш!J17,"")
A29: =IFERROR(IF(Дист_4Ж1922263034[[#This Row],[Фамилия]]="",0,1),0) -> 0 | C29: =IF([1]Финиш!$C18=[1]Финиш!$F$6,[1]Финиш!B18,"") | D29: =IF([1]Финиш!$C18=[1]Финиш!$F$6,[1]Финиш!E18,"") | E29: =IFERROR(IF([1]Финиш!C18=[1]Финиш!$F$6,MID([1]Финиш!G18,1,FIND(" ",[1]Финиш!G18)-1),""),"") | F29: =IFERROR(IF([1]Финиш!C18=[1]Финиш!$F$6,MID([1]Финиш!G18,FIND(" ",[1]Финиш!G18)+1,100),""),"") | G29: =IF([1]Финиш!$C18=[1]Финиш!$F$6,[1]Финиш!H18,"") | H29: =IF([1]Финиш!$C18=[1]Финиш!$F$6,[1]Финиш!N18,"") | I29: =IF([1]Финиш!$C18=[1]Финиш!$F$6,[1]Финиш!P18,"") | J29: =IF([1]Финиш!$C18=[1]Финиш!$F$6,[1]Финиш!F18,"") | K29: =IF([1]Финиш!$C18=[1]Финиш!$F$6,[1]Финиш!D18,"") | L29: =IF([1]Финиш!$C18=[1]Финиш!$F$6,[1]Финиш!J18,"")
A30: =IFERROR(IF(Дист_4Ж1922263034[[#This Row],[Фамилия]]="",0,1),0) -> 0 | C30: =IF([1]Финиш!$C19=[1]Финиш!$F$6,[1]Финиш!B19,"") | D30: =IF([1]Финиш!$C19=[1]Финиш!$F$6,[1]Финиш!E19,"") | E30: =IFERROR(IF([1]Финиш!C19=[1]Финиш!$F$6,MID([1]Финиш!G19,1,FIND(" ",[1]Финиш!G19)-1),""),"") | F30: =IFERROR(IF([1]Финиш!C19=[1]Финиш!$F$6,MID([1]Финиш!G19,FIND(" ",[1]Финиш!G19)+1,100),""),"") | G30: =IF([1]Финиш!$C19=[1]Финиш!$F$6,[1]Финиш!H19,"") | H30: =IF([1]Финиш!$C19=[1]Финиш!$F$6,[1]Финиш!N19,"") | I30: =IF([1]Финиш!$C19=[1]Финиш!$F$6,[1]Финиш!P19,"") | J30: =IF([1]Финиш!$C19=[1]Финиш!$F$6,[1]Финиш!F19,"") | K30: =IF([1]Финиш!$C19=[1]Финиш!$F$6,[1]Финиш!D19,"") | L30: =IF([1]Финиш!$C19=[1]Финиш!$F$6,[1]Финиш!J19,"")
A31: =IFERROR(IF(Дист_4Ж1922263034[[#This Row],[Фамилия]]="",0,1),0) -> 0 | C31: =IF([1]Финиш!$C20=[1]Финиш!$F$6,[1]Финиш!B20,"") | D31: =IF([1]Финиш!$C20=[1]Финиш!$F$6,[1]Финиш!E20,"") | E31: =IFERROR(IF([1]Финиш!C20=[1]Финиш!$F$6,MID([1]Финиш!G20,1,FIND(" ",[1]Финиш!G20)-1),""),"") | F31: =IFERROR(IF([1]Финиш!C20=[1]Финиш!$F$6,MID([1]Финиш!G20,FIND(" ",[1]Финиш!G20)+1,100),""),"") | G31: =IF([1]Финиш!$C20=[1]Финиш!$F$6,[1]Финиш!H20,"") | H31: =IF([1]Финиш!$C20=[1]Финиш!$F$6,[1]Финиш!N20,"") | I31: =IF([1]Финиш!$C20=[1]Финиш!$F$6,[1]Финиш!P20,"") | J31: =IF([1]Финиш!$C20=[1]Финиш!$F$6,[1]Финиш!F20,"") | K31: =IF([1]Финиш!$C20=[1]Финиш!$F$6,[1]Финиш!D20,"") | L31: =IF([1]Финиш!$C20=[1]Финиш!$F$6,[1]Финиш!J20,"")
... A319: =IFERROR(IF(Дист_4Ж1922263034[[#This Row],[Фамилия]]="",0,1),0) -> 0 | C319: =IF([1]Финиш!$C308=[1]Финиш!$F$6,[1]Финиш!B308,"") | D319: =IF([1]Финиш!$C308=[1]Финиш!$F$6,[1]Финиш!E308,"") | E319: =IFERROR(IF([1]Финиш!C308=[1]Финиш!$F$6,MID([1]Финиш!G308,1,FIND(" ",[1]Финиш!G308)-1),""),"") | F319: =IFERROR(IF([1]Финиш!C308=[1]Финиш!$F$6,MID([1]Финиш!G308,FIND(" ",[1]Финиш!G308)+1,100),""),"") | G319: =IF([1]Финиш!$C308=[1]Финиш!$F$6,[1]Финиш!H308,"") | H319: =IF([1]Финиш!$C308=[1]Финиш!$F$6,[1]Финиш!N308,"") | I319: =IF([1]Финиш!$C308=[1]Финиш!$F$6,[1]Финиш!P308,"") | J319: =IF([1]Финиш!$C308=[1]Финиш!$F$6,[1]Финиш!F308,"") | K319: =IF([1]Финиш!$C308=[1]Финиш!$F$6,[1]Финиш!D308,"") | L319: =IF([1]Финиш!$C308=[1]Финиш!$F$6,[1]Финиш!J308,"")
C322: Контакты для замечаний по протоколу: | J322: ='1,5'!H20 -> mirbega@mail.ru
C324: Адреса (URL) размещения протокола в сети:
